BEGIN:VCALENDAR
VERSION:2.0
PRODID:-//Tukios.com/
BEGIN:VEVENT
UID:cbbdbf1f-2793-4f36-829c-282ee74d6196@www.basicfunerals.ca
DTSTAMP:20260425T205810Z
DTSTART:20260517T170000Z
DTEND:20260517T210000Z
SUMMARY:Celebration of Life
DESCRIPTION:Pig roast and refreshments. 
Drop in to support the family 
	and share your condolences. 
Join us in celebrating the amazing man he 
	was and how deeply loved he was by everyone.
URL:https://www.basicfunerals.ca/obituaries/mark-bellerdine
LOCATION:376 Vince Dr 376 Vince Dr  Ottawa ON K1E 2E3
GEO:45.469313;-75.4956082
END:VEVENT
END:VCALENDAR