BEGIN:VCALENDAR
VERSION:2.0
PRODID:-//Tukios.com/
BEGIN:VEVENT
UID:6e391462-64ad-4d5c-9935-134cead770d8@www.basicfunerals.ca
DTSTAMP:20260420T194459Z
DTSTART:20260524T150000Z
DTEND:20260524T160000Z
SUMMARY:Memorial Service
DESCRIPTION:
URL:https://www.basicfunerals.ca/obituaries/joseph-telford
LOCATION:North London Seventh Day Adventist Church 800 Fleet Street  
	London ON N5Y 1R9
GEO:43.004763;-81.2205353
END:VEVENT
END:VCALENDAR