BEGIN:VCALENDAR
VERSION:2.0
PRODID:-//Tukios.com/
BEGIN:VEVENT
UID:1d1bf65b-9a39-427b-ae12-1839641d5011@www.basicfunerals.ca
DTSTAMP:20260420T221624Z
DTSTART:20260521T180000Z
DTEND:20260521T190000Z
SUMMARY:John Dudziak
DESCRIPTION:Taking place Thursday May 21st, Memorial Church Service at 2 
	p.m. followed by a Celebration of Life Dinner in the church hall at 3 
	p.m.  

For the dinner, please RSVP by Friday May 15th by 
	calling/texting Christine at 905-334-4994 or by emailing 
	cafantin@rogers.com. 

The Memorial Church Service will be streamed 
	live and can be viewed later on YouTube. The link will be posted about 
	one week prior to the service.
URL:https://www.basicfunerals.ca/obituaries/john-dudziak
LOCATION:St. Peter's Anglican Erindale 3041 Mississauga Rd  Mississauga 
	ON L5L 0B7
GEO:43.5434121;-79.6592895
END:VEVENT
END:VCALENDAR